BEGIN:VCALENDAR
VERSION:2.0
PRODID:-//Capacitar Pymes - ECPv6.0.1.1//NONSGML v1.0//EN
CALSCALE:GREGORIAN
METHOD:PUBLISH
X-WR-CALNAME:Capacitar Pymes
X-ORIGINAL-URL:https://www.capacitarpymes.com
X-WR-CALDESC:Eventos para Capacitar Pymes
REFRESH-INTERVAL;VALUE=DURATION:PT1H
X-Robots-Tag:noindex
X-PUBLISHED-TTL:PT1H
BEGIN:VTIMEZONE
TZID:UTC
BEGIN:STANDARD
TZOFFSETFROM:+0000
TZOFFSETTO:+0000
TZNAME:UTC
DTSTART:20210101T000000
END:STANDARD
END:VTIMEZONE
BEGIN:VEVENT
DTSTART;TZID=UTC:20210720T080000
DTEND;TZID=UTC:20210720T170000
DTSTAMP:20260425T090005
CREATED:20190309T022119Z
LAST-MODIFIED:20190309T022119Z
UID:83-1626768000-1626800400@www.capacitarpymes.com
SUMMARY:Digital Transformation Conference
DESCRIPTION:The Digital Transformation Conference brings together leaders spearheading digital initiatives in their organizations to offer insights into their digital transformation journey’s. \nJoin digital business leaders as the event returns to Boston early 2019 to navigate digital transformation with an agenda packed full of presentations\, fireside chats\, panel discussions & networking opportunities. \nThe Digital Transformation Conference brings together leaders spearheading digital initiatives in their organizations to offer insights into their digital transformation journey’s. \nJoin digital business leaders as the event returns to Boston early 2019 to navigate digital transformation with an agenda packed full of presentations\, fireside chats\, panel discussions & networking opportunities.
URL:https://www.capacitarpymes.com/event/digital-transformation-conference/
ATTACH;FMTTYPE=image/jpeg:https://www.capacitarpymes.com/wp-content/uploads/2019/03/ev6-5.jpg
ORGANIZER;CN="Barney%20Stinson":MAILTO:barney@legendary.com
END:VEVENT
BEGIN:VEVENT
DTSTART;TZID=UTC:20230113T080000
DTEND;TZID=UTC:20230206T170000
DTSTAMP:20260425T090005
CREATED:20190309T022350Z
LAST-MODIFIED:20190309T022350Z
UID:85-1673596800-1675702800@www.capacitarpymes.com
SUMMARY:International React Conference
DESCRIPTION:We are thrilled to present the 2019 edition of ReactNext – a one-day community-driven event packed with advanced lectures by internationally renowned speakers\, and networking opportunities with over 750 attendees from all around the world\, that share a passion for React\, held in the center of the vibrant city of Tel Aviv. \nReactNext targets both beginner and experienced devs in two parallel tracks with sessions about React\, React Native\, Redux\, MobX\, and everything about the ecosystem. We are thrilled to present the 2019 edition. \nReactNext – a one-day community-driven event packed with advanced lectures by internationally renowned speakers\, and networking opportunities with over 750 attendees from all around the world\, that share a passion for React\, held in the center of the vibrant city of Tel Aviv. ReactNext targets both beginner and experienced devs in two parallel tracks with sessions about React\, React Native\, Redux\, MobX\, and everything about the ecosystem.
URL:https://www.capacitarpymes.com/event/international-react-conference/
ATTACH;FMTTYPE=image/jpeg:https://www.capacitarpymes.com/wp-content/uploads/2019/03/ev1-5.jpg
ORGANIZER;CN="Barney%20Stinson":MAILTO:barney@legendary.com
END:VEVENT
END:VCALENDAR